BEGIN:VCALENDAR
VERSION:2.0
PRODID:-//BLOK M SQUARE OFFICIAL WEBSITE - ECPv6.15.20//NONSGML v1.0//EN
CALSCALE:GREGORIAN
METHOD:PUBLISH
X-WR-CALNAME:BLOK M SQUARE OFFICIAL WEBSITE
X-ORIGINAL-URL:http://cpanel.blokmsquare.co.id
X-WR-CALDESC:Events for BLOK M SQUARE OFFICIAL WEBSITE
REFRESH-INTERVAL;VALUE=DURATION:PT1H
X-Robots-Tag:noindex
X-PUBLISHED-TTL:PT1H
BEGIN:VTIMEZONE
TZID:Asia/Jakarta
BEGIN:STANDARD
TZOFFSETFROM:+0700
TZOFFSETTO:+0700
TZNAME:WIB
DTSTART:20240101T000000
END:STANDARD
END:VTIMEZONE
BEGIN:VEVENT
DTSTART;TZID=Asia/Jakarta:20250501T100000
DTEND;TZID=Asia/Jakarta:20250531T223000
DTSTAMP:20260421T153914
CREATED:20250513T061121Z
LAST-MODIFIED:20250513T061137Z
UID:10746-1746093600-1748730600@cpanel.blokmsquare.co.id
SUMMARY:Pameran Otomotif\, Food and Beverage Multi Produk
DESCRIPTION:Pameran Multiproduk terdiri dari berbagai produk dari berbagai brand ternama dan diskon yang menarik\, terletak di lantai UG hall A dan B
URL:http://cpanel.blokmsquare.co.id/event/pameran-otomotif-food-and-beverage-multi-produk/
LOCATION:Jakarta
CATEGORIES:Event
END:VEVENT
END:VCALENDAR